BEGIN:VCALENDAR
VERSION:2.0
PRODID:-//Dorpsraad Serooskerke - ECPv6.15.20//NONSGML v1.0//EN
CALSCALE:GREGORIAN
METHOD:PUBLISH
X-WR-CALNAME:Dorpsraad Serooskerke
X-ORIGINAL-URL:https://www.dorpsraadserooskerke.nl
X-WR-CALDESC:Evenementen voor Dorpsraad Serooskerke
REFRESH-INTERVAL;VALUE=DURATION:PT1H
X-Robots-Tag:noindex
X-PUBLISHED-TTL:PT1H
BEGIN:VTIMEZONE
TZID:Europe/Amsterdam
BEGIN:DAYLIGHT
TZOFFSETFROM:+0100
TZOFFSETTO:+0200
TZNAME:CEST
DTSTART:20250330T010000
END:DAYLIGHT
BEGIN:STANDARD
TZOFFSETFROM:+0200
TZOFFSETTO:+0100
TZNAME:CET
DTSTART:20251026T010000
END:STANDARD
BEGIN:DAYLIGHT
TZOFFSETFROM:+0100
TZOFFSETTO:+0200
TZNAME:CEST
DTSTART:20260329T010000
END:DAYLIGHT
BEGIN:STANDARD
TZOFFSETFROM:+0200
TZOFFSETTO:+0100
TZNAME:CET
DTSTART:20261025T010000
END:STANDARD
BEGIN:DAYLIGHT
TZOFFSETFROM:+0100
TZOFFSETTO:+0200
TZNAME:CEST
DTSTART:20270328T010000
END:DAYLIGHT
BEGIN:STANDARD
TZOFFSETFROM:+0200
TZOFFSETTO:+0100
TZNAME:CET
DTSTART:20271031T010000
END:STANDARD
END:VTIMEZONE
BEGIN:VEVENT
DTSTART;TZID=Europe/Amsterdam:20260424T180000
DTEND;TZID=Europe/Amsterdam:20260424T210000
DTSTAMP:20260424T120145
CREATED:20260331T125503Z
LAST-MODIFIED:20260331T125503Z
UID:1927-1777053600-1777064400@www.dorpsraadserooskerke.nl
SUMMARY:Proef en Ontmoet Serooskerke
DESCRIPTION:Graag nodig ik jullie uit voor de allereerste editie van “Proef en Ontmoet”\, de vernieuwde vorm van de bekende Wereldmaaltijd. Een initiatief van inwoners uit de kern Serooskerke\, waarin we samen eten\, elkaar ontmoeten en nieuwe verbindingen leggen binnen het dorp. \nDe bijeenkomst vindt plaats:\n📍 In de Zandput\n📅 Vrijdag 24 april 2026\n⏰ 18:00 – 21:00 uur \nTijdens Proef en Ontmoet draait het om gezelligheid\, zelf meegebrachte gerechten en elkaar ontmoeten op een laagdrempelige manier. Het zou ontzettend leuk zijn als jullie of een vertegenwoordiging van jullie vereniging/organisatie/platform erbij kunnen zijn! \nWe zouden het daarnaast zeer waarderen als jullie ‘Proef en Ontmoet” willen verspreiden binnen jullie netwerk. Dit kan o.a. d.m.v. de poster uit de bijlage af te drukken en op te hangen of te verspreiden via jullie digitale kanalen. We willen zoveel mogelijk inwoners van Serooskerke over dit nieuwe initiatief op hoogte brengen en de gelegenheid hebben om aan te sluiten. \nLaat je het weten als je komt? Aanmelden kan via proefenontmoetserooskerke@gmail.com\nAlvast dank en hopelijk tot dan! \nProef en Ontmoet is ook op diverse sociaal media te vinden. Via onderstaande links kun je ons volgen en/of vrienden worden. \nFacebook – www.facebook.com/ProefenOntmoetSerooskerke \nInstagram – www.instagram.com/proefenontmoet_serooskerke/ \n \n 
URL:https://www.dorpsraadserooskerke.nl/evenement/proef-en-ontmoet-serooskerke/
LOCATION:Dorpshuis de Zandput
END:VEVENT
END:VCALENDAR